BEGIN:VCALENDAR
VERSION:2.0
PRODID:-//hacksw/handcal//NONSGML v1.0//EN
BEGIN:VEVENT
DTSTART:20260101T130000Z
DTEND:20261231T060000Z
LOCATION;ENCODING=QUOTED-PRINTABLE:Self-Study Course, Columbus, OH
SUMMARY;LANGUAGE=en-us:Attorney Notary Education
BEGIN:VALARM
TRIGGER:-P1D
ACTION:DISPLAY
DESCRIPTION:Attorney Notary Education on 20260101T130000Z
END:VALARM
END:VEVENT
END:VCALENDAR
