BEGIN:VCALENDAR
VERSION:2.0
PRODID:-//hacksw/handcal//NONSGML v1.0//EN
BEGIN:VEVENT
DTSTART:20211111T150000Z
DTEND:20211111T181500Z
LOCATION;ENCODING=QUOTED-PRINTABLE:Zoom Webinar, 175 S. Third St., Columbus, OH
SUMMARY;LANGUAGE=en-us:2021 Bankruptcy Law Institute: Module 1 (Live Webinar)
BEGIN:VALARM
TRIGGER:-P1D
ACTION:DISPLAY
DESCRIPTION:2021 Bankruptcy Law Institute: Module 1 (Live Webinar) on 20211111T150000Z
END:VALARM
END:VEVENT
END:VCALENDAR
