BEGIN:VCALENDAR
VERSION:2.0
PRODID:-//hacksw/handcal//NONSGML v1.0//EN
BEGIN:VEVENT
DTSTART:20251015T130000Z
DTEND:20251015T161500Z
LOCATION;ENCODING=QUOTED-PRINTABLE:Columbus Bar Association, 230 West Street, Columbus, OH
SUMMARY;LANGUAGE=en-us:2025 Kegler Brown Hill + Ritter Ethics Symposium
BEGIN:VALARM
TRIGGER:-P1D
ACTION:DISPLAY
DESCRIPTION:2025 Kegler Brown Hill + Ritter Ethics Symposium on 20251015T130000Z
END:VALARM
END:VEVENT
END:VCALENDAR
