BEGIN:VCALENDAR
VERSION:2.0
PRODID:-//hacksw/handcal//NONSGML v1.0//EN
BEGIN:VEVENT
DTSTART:20251209T170000Z
DTEND:20251209T180000Z
LOCATION;ENCODING=QUOTED-PRINTABLE:Zoom Webinar, Columbus, OH
SUMMARY;LANGUAGE=en-us:Forensic Examination of Mobile Device Data
BEGIN:VALARM
TRIGGER:-P1D
ACTION:DISPLAY
DESCRIPTION:Forensic Examination of Mobile Device Data on 20251209T170000Z
END:VALARM
END:VEVENT
END:VCALENDAR
