BEGIN:VCALENDAR
VERSION:2.0
PRODID:-//hacksw/handcal//NONSGML v1.0//EN
BEGIN:VEVENT
DTSTART:20260428T130000Z
DTEND:20260428T140000Z
LOCATION;ENCODING=QUOTED-PRINTABLE:Zoom Webinar, Columbus, OH
SUMMARY;LANGUAGE=en-us:Financial Misconduct and Gambling
BEGIN:VALARM
TRIGGER:-P1D
ACTION:DISPLAY
DESCRIPTION:Financial Misconduct and Gambling on 20260428T130000Z
END:VALARM
END:VEVENT
END:VCALENDAR
