BEGIN:VCALENDAR
VERSION:2.0
PRODID:-//hacksw/handcal//NONSGML v1.0//EN
BEGIN:VEVENT
DTSTART:20260515T170000Z
DTEND:20260515T183000Z
LOCATION;ENCODING=QUOTED-PRINTABLE:Zoom Webinar, 230 West St., Columbus, OH
SUMMARY;LANGUAGE=en-us:Personal Interest Conflicts: When the Lawyer Becomes the Conflict
BEGIN:VALARM
TRIGGER:-P1D
ACTION:DISPLAY
DESCRIPTION:Personal Interest Conflicts: When the Lawyer Becomes the Conflict on 20260515T170000Z
END:VALARM
END:VEVENT
END:VCALENDAR
