BEGIN:VCALENDAR
VERSION:2.0
PRODID:-//hacksw/handcal//NONSGML v1.0//EN
BEGIN:VEVENT
DTSTART:20260801T140000Z
DTEND:20260801T160000Z
LOCATION;ENCODING=QUOTED-PRINTABLE:Pickle and Chill, 880 W Henderson Rd, Columbus, OH 43214, Columbus, OH
SUMMARY;LANGUAGE=en-us:Serve it forward  for the Foundation:  Pickleball tournament
BEGIN:VALARM
TRIGGER:-P1D
ACTION:DISPLAY
DESCRIPTION:Serve it forward  for the Foundation:  Pickleball tournament on 20260801T140000Z
END:VALARM
END:VEVENT
END:VCALENDAR
