BEGIN:VCALENDAR
VERSION:2.0
PRODID:-//hacksw/handcal//NONSGML v1.0//EN
BEGIN:VEVENT
DTSTART:20250925T213000Z
DTEND:20250925T233000Z
LOCATION;ENCODING=QUOTED-PRINTABLE:The Ohio Tap Room, 1291 West 3rd Avenue, Columbus, OH
SUMMARY;LANGUAGE=en-us:EAGLE Legal Legends & Local Brews Kick Off Social
BEGIN:VALARM
TRIGGER:-P1D
ACTION:DISPLAY
DESCRIPTION:EAGLE Legal Legends & Local Brews Kick Off Social on 20250925T213000Z
END:VALARM
END:VEVENT
END:VCALENDAR
