BEGIN:VCALENDAR
VERSION:2.0
PRODID:-//hacksw/handcal//NONSGML v1.0//EN
BEGIN:VEVENT
DTSTART:20250612T203000Z
DTEND:20250612T230000Z
LOCATION;ENCODING=QUOTED-PRINTABLE:The Fives, 550 Reach Blvd., Columbus, OH
SUMMARY;LANGUAGE=en-us:Columbus Bar Association Annual Meeting 2025
BEGIN:VALARM
TRIGGER:-P1D
ACTION:DISPLAY
DESCRIPTION:Columbus Bar Association Annual Meeting 2025 on 20250612T203000Z
END:VALARM
END:VEVENT
END:VCALENDAR
